BEGIN:VCALENDAR
VERSION:2.0
PRODID:Events Booking
BEGIN:VEVENT
UID:69e6100f55504
SUMMARY:Pizza JUG & Fun - JUG043
DESCRIPTION:Zaterdag 21 maart organiseren we weer een gezellige Pizza\, Jug
  &amp\; Fun dag.&nbsp\;Samen met andere JUG043 leden werken aan je Joomla 
 website\, en of dat nu een upgrade van 5.x naar 6.x is\, wat je gaat doen 
 mag je zelf weten! Tijdens de lunch zorgen wij voor een lekkere Pizza.
LOCATION:Stationstraat\, Beek\, 6191BG Limburg\, Nederland
DTSTART:20260321T083000Z
DTEND:20260321T153000Z
DTSTAMP:20251230T171618Z
ORGANIZER;CN=JUG043 Maastricht:MAILTO:info@jug043.nl
GEO:50.944223;5.786232
X-APPLE-STRUCTURED-LOCATION;VALUE=URI;X-ADDRESS=Stationstraat\, Beek\, 6191
 BG Limburg\, Nederland;X-APPLE-RADIUS=72;X-TITLE=Locatie Beek:50.944223;5.
 786232
END:VEVENT
END:VCALENDAR