BEGIN:VCALENDAR
VERSION:2.0
PRODID:Events Booking
BEGIN:VEVENT
UID:69eaf21335bfc
SUMMARY:JUG043 bijeenkomst 28-4-2025  - Kickstart Cassiopeia\, SEO Check en
  Custom het admin menu
DESCRIPTION:Ontdek de Cassiopeia Kickstart Template
 Maarten Blokdijk\, ee
 n prominente Joomla-ontwikkelaar\, tijdens deze bijaankomst presenteert zi
 jn innovatieve Kickstart Cassiopeia Template. Deze tool transformeert het 
 standaard Cassiopeia-sjabloon van Joomla 4\, waardoor het eenvoudiger dan 
 ooit wordt om professionele en aantrekkelijke websites te maken zonder tec
 hnische kennis. Kom en leer hoe je jouw Joomla-projecten naar een hoger ni
 veau tilt met behulp van Maartens expertise. Zie ook: www.kickstartcassiop
 eia.comwww.kickstartcassiopeia.com
 Custom Admin menu
 Tijdens deze JUG0
 43 bijeenkomst deelt Maarten Blokdijk zijn visie en expertise over het ver
 beteren en aanpassen van het admin in Joomla. Als ervaren Joomla-ontwikkel
 aar laat Maarten zien hoe je de efficiëntie\, toegankelijkheid en gebruik
 svriendelijkheid van de admin aanzienlijk kunt verbeteren. Kom en ontdek p
 raktische tips en innovatieve oplossingen om het werken met Joomla nog pre
 ttiger te maken.
 SEO check
 Als laatst laat Maarten wat tips en tructs 
 zien om te zorgen dat je beter gevonden wordt door Google! Dus om meer ren
 dement uit je website te halen. Zie ook: Hoger in Google
 Mis deze kans n
 iet om geïnspireerd te worden en meer te leren over handige tools en tips
  and tricks voor Joomla-ontwikkeling!&nbsp\;
LOCATION:Stationstraat\, Beek\, 6191BG Limburg\, Nederland
DTSTART:20250428T170000Z
DTEND:20250428T193000Z
DTSTAMP:20231112T083127Z
ORGANIZER;CN=JUG043 Maastricht:MAILTO:info@jug043.nl
GEO:50.944223;5.786232
X-APPLE-STRUCTURED-LOCATION;VALUE=URI;X-ADDRESS=Stationstraat\, Beek\, 6191
 BG Limburg\, Nederland;X-APPLE-RADIUS=72;X-TITLE=Locatie Beek:50.944223;5.
 786232
END:VEVENT
END:VCALENDAR